BEGIN:VCALENDAR
VERSION:2.0
PRODID:-//Talon Wines - ECPv6.15.20//NONSGML v1.0//EN
CALSCALE:GREGORIAN
METHOD:PUBLISH
X-WR-CALNAME:Talon Wines
X-ORIGINAL-URL:https://www.talonwines.com
X-WR-CALDESC:Events for Talon Wines
REFRESH-INTERVAL;VALUE=DURATION:PT1H
X-Robots-Tag:noindex
X-PUBLISHED-TTL:PT1H
BEGIN:VTIMEZONE
TZID:America/Denver
BEGIN:DAYLIGHT
TZOFFSETFROM:-0700
TZOFFSETTO:-0600
TZNAME:MDT
DTSTART:20240310T090000
END:DAYLIGHT
BEGIN:STANDARD
TZOFFSETFROM:-0600
TZOFFSETTO:-0700
TZNAME:MST
DTSTART:20241103T080000
END:STANDARD
BEGIN:DAYLIGHT
TZOFFSETFROM:-0700
TZOFFSETTO:-0600
TZNAME:MDT
DTSTART:20250309T090000
END:DAYLIGHT
BEGIN:STANDARD
TZOFFSETFROM:-0600
TZOFFSETTO:-0700
TZNAME:MST
DTSTART:20251102T080000
END:STANDARD
BEGIN:DAYLIGHT
TZOFFSETFROM:-0700
TZOFFSETTO:-0600
TZNAME:MDT
DTSTART:20260308T090000
END:DAYLIGHT
BEGIN:STANDARD
TZOFFSETFROM:-0600
TZOFFSETTO:-0700
TZNAME:MST
DTSTART:20261101T080000
END:STANDARD
END:VTIMEZONE
BEGIN:VEVENT
DTSTART;VALUE=DATE:20250815
DTEND;VALUE=DATE:20250817
DTSTAMP:20260421T212139
CREATED:20250128T160454Z
LAST-MODIFIED:20250513T201218Z
UID:3692-1755216000-1755388799@www.talonwines.com
SUMMARY:Palisade Peach Festival
DESCRIPTION:Purchase tickets online here: https://www.eventbrite.com/e/2025-palisade-peach-festival-tickets-1116763683239?aff=oddtdtcreator
URL:https://www.talonwines.com/event/palisade-peach-festival-2025/
LOCATION:CO
CATEGORIES:Festival
END:VEVENT
END:VCALENDAR