BEGIN:VCALENDAR
VERSION:2.0
PRODID:-//Talon Wines - ECPv6.15.20//NONSGML v1.0//EN
CALSCALE:GREGORIAN
METHOD:PUBLISH
X-WR-CALNAME:Talon Wines
X-ORIGINAL-URL:https://www.talonwines.com
X-WR-CALDESC:Events for Talon Wines
REFRESH-INTERVAL;VALUE=DURATION:PT1H
X-Robots-Tag:noindex
X-PUBLISHED-TTL:PT1H
BEGIN:VTIMEZONE
TZID:America/Denver
BEGIN:DAYLIGHT
TZOFFSETFROM:-0700
TZOFFSETTO:-0600
TZNAME:MDT
DTSTART:20230312T090000
END:DAYLIGHT
BEGIN:STANDARD
TZOFFSETFROM:-0600
TZOFFSETTO:-0700
TZNAME:MST
DTSTART:20231105T080000
END:STANDARD
BEGIN:DAYLIGHT
TZOFFSETFROM:-0700
TZOFFSETTO:-0600
TZNAME:MDT
DTSTART:20240310T090000
END:DAYLIGHT
BEGIN:STANDARD
TZOFFSETFROM:-0600
TZOFFSETTO:-0700
TZNAME:MST
DTSTART:20241103T080000
END:STANDARD
BEGIN:DAYLIGHT
TZOFFSETFROM:-0700
TZOFFSETTO:-0600
TZNAME:MDT
DTSTART:20250309T090000
END:DAYLIGHT
BEGIN:STANDARD
TZOFFSETFROM:-0600
TZOFFSETTO:-0700
TZNAME:MST
DTSTART:20251102T080000
END:STANDARD
BEGIN:DAYLIGHT
TZOFFSETFROM:-0700
TZOFFSETTO:-0600
TZNAME:MDT
DTSTART:20260308T090000
END:DAYLIGHT
BEGIN:STANDARD
TZOFFSETFROM:-0600
TZOFFSETTO:-0700
TZNAME:MST
DTSTART:20261101T080000
END:STANDARD
END:VTIMEZONE
BEGIN:VEVENT
DTSTART;TZID=America/Denver:20250822T180000
DTEND;TZID=America/Denver:20250822T200000
DTSTAMP:20260422T135907
CREATED:20250730T233654Z
LAST-MODIFIED:20250730T233654Z
UID:3961-1755885600-1755892800@www.talonwines.com
SUMMARY:Talon Wine Club: Summer Punch Competition
DESCRIPTION:
URL:https://www.talonwines.com/event/talon-wine-club-summer-punch-competition/
LOCATION:Talon Wines at the Meadery\, 3701 G Road\, Palisade\, CO\, 81526\, United States
END:VEVENT
BEGIN:VEVENT
DTSTART;VALUE=DATE:20250815
DTEND;VALUE=DATE:20250818
DTSTAMP:20260422T135907
CREATED:20250130T173943Z
LAST-MODIFIED:20250815T181509Z
UID:3694-1755216000-1755475199@www.talonwines.com
SUMMARY:Falconry Experiences
DESCRIPTION:Join Master Falconer Devin Jaffe\, founder of Mile High Falcons\, for a small group exclusive experience with live raptors! This experience will allow you to dive into the world of falconry with Devin\, ask all of your burning questions\, and get some hands-on experience with birds of prey. Learn about how the birds are housed\, trained\, cared for\, and have the chance to see them work just feet away. \n  \nSaturday\, August 16th | 4-5pm: https://www.talonwines.com/product/falconry-experience-august-16-pm \nSunday\, August 17th | 9-10am: https://www.talonwines.com/product/falconry-experience-august-17-am
URL:https://www.talonwines.com/event/falconry-experiences-aug2025/
LOCATION:Talon Wines at the Meadery\, 3701 G Road\, Palisade\, CO\, 81526\, United States
END:VEVENT
BEGIN:VEVENT
DTSTART;VALUE=DATE:20250815
DTEND;VALUE=DATE:20250817
DTSTAMP:20260422T135907
CREATED:20250128T164353Z
LAST-MODIFIED:20250307T205806Z
UID:3697-1755216000-1755388799@www.talonwines.com
SUMMARY:Nature's Educators
DESCRIPTION:Come by the tasting room 12pm-5:30pm on Friday and 10am-5:30pm on Saturday to see live raptors and learn about Nature’s Educators!
URL:https://www.talonwines.com/event/natures-educators-aug2025/
LOCATION:Talon Wines at the Meadery\, 3701 G Road\, Palisade\, CO\, 81526\, United States
END:VEVENT
BEGIN:VEVENT
DTSTART;VALUE=DATE:20250815
DTEND;VALUE=DATE:20250817
DTSTAMP:20260422T135907
CREATED:20250128T160454Z
LAST-MODIFIED:20250513T201218Z
UID:3692-1755216000-1755388799@www.talonwines.com
SUMMARY:Palisade Peach Festival
DESCRIPTION:Purchase tickets online here: https://www.eventbrite.com/e/2025-palisade-peach-festival-tickets-1116763683239?aff=oddtdtcreator
URL:https://www.talonwines.com/event/palisade-peach-festival-2025/
LOCATION:CO
CATEGORIES:Festival
END:VEVENT
BEGIN:VEVENT
DTSTART;VALUE=DATE:20250814
DTEND;VALUE=DATE:20250818
DTSTAMP:20260422T135907
CREATED:20250801T175732Z
LAST-MODIFIED:20250801T200230Z
UID:3965-1755129600-1755475199@www.talonwines.com
SUMMARY:Palisade Peach Days @ Talon
DESCRIPTION:Tickets for 2pm Guided Winery Tour \nTickets for 4pm Guided Winery Tour
URL:https://www.talonwines.com/event/peach-days-2025/
LOCATION:Talon Wines at the Meadery\, 3701 G Road\, Palisade\, CO\, 81526\, United States
END:VEVENT
BEGIN:VEVENT
DTSTART;TZID=America/Denver:20250711T110000
DTEND;TZID=America/Denver:20250711T120000
DTSTAMP:20260422T135907
CREATED:20250602T200306Z
LAST-MODIFIED:20250602T200324Z
UID:3884-1752231600-1752235200@www.talonwines.com
SUMMARY:Lavender Wreath Workshop
DESCRIPTION:
URL:https://www.talonwines.com/event/lavender-wreath-workshop/
LOCATION:Talon Wines at the Meadery\, 3701 G Road\, Palisade\, CO\, 81526\, United States
END:VEVENT
BEGIN:VEVENT
DTSTART;VALUE=DATE:20250704
DTEND;VALUE=DATE:20250705
DTSTAMP:20260422T135907
CREATED:20250128T160140Z
LAST-MODIFIED:20250307T205340Z
UID:3689-1751587200-1751673599@www.talonwines.com
SUMMARY:Independence Day (CLOSED)
DESCRIPTION:
URL:https://www.talonwines.com/event/independence-day-2025/
LOCATION:CO
END:VEVENT
BEGIN:VEVENT
DTSTART;VALUE=DATE:20250629
DTEND;VALUE=DATE:20250630
DTSTAMP:20260422T135907
CREATED:20250307T211331Z
LAST-MODIFIED:20250307T211331Z
UID:3793-1751155200-1751241599@www.talonwines.com
SUMMARY:CO Lavender Festival Open Farm Tours
DESCRIPTION:More info coming soon!
URL:https://www.talonwines.com/event/co-lavender-festival-open-farm-tours/
LOCATION:CO
END:VEVENT
BEGIN:VEVENT
DTSTART;VALUE=DATE:20250627
DTEND;VALUE=DATE:20250630
DTSTAMP:20260422T135908
CREATED:20250128T160047Z
LAST-MODIFIED:20250513T201054Z
UID:3687-1750982400-1751241599@www.talonwines.com
SUMMARY:Colorado Lavender Festival
DESCRIPTION:
URL:https://www.talonwines.com/event/colorado-lavender-festival-2025/
LOCATION:CO
CATEGORIES:Festival
END:VEVENT
BEGIN:VEVENT
DTSTART;VALUE=DATE:20250627
DTEND;VALUE=DATE:20250628
DTSTAMP:20260422T135908
CREATED:20250307T211131Z
LAST-MODIFIED:20250513T200928Z
UID:3791-1750982400-1751068799@www.talonwines.com
SUMMARY:CO Lavender Festival VIP Farm Tours
DESCRIPTION:Only a few tickets left! Purchase online here: https://www.eventeny.com/events/14th-annual-colorado-lavender-festival-16546/
URL:https://www.talonwines.com/event/co-lavender-festival-vip-farm-tours/
LOCATION:CO
END:VEVENT
BEGIN:VEVENT
DTSTART;TZID=America/Denver:20250621T100000
DTEND;TZID=America/Denver:20250621T140000
DTSTAMP:20260422T135908
CREATED:20250530T171944Z
LAST-MODIFIED:20250530T171944Z
UID:3877-1750500000-1750514400@www.talonwines.com
SUMMARY:Wine Charm Bar
DESCRIPTION:
URL:https://www.talonwines.com/event/wine-charm-bar/
LOCATION:Talon Wines at the Meadery\, 3701 G Road\, Palisade\, CO\, 81526\, United States
END:VEVENT
BEGIN:VEVENT
DTSTART;VALUE=DATE:20250526
DTEND;VALUE=DATE:20250527
DTSTAMP:20260422T135908
CREATED:20250128T155729Z
LAST-MODIFIED:20250307T204334Z
UID:3682-1748217600-1748303999@www.talonwines.com
SUMMARY:Memorial Day (OPEN)
DESCRIPTION:
URL:https://www.talonwines.com/event/memorial-day-2025/
LOCATION:CO
END:VEVENT
BEGIN:VEVENT
DTSTART;VALUE=DATE:20250510
DTEND;VALUE=DATE:20250511
DTSTAMP:20260422T135908
CREATED:20250423T003311Z
LAST-MODIFIED:20250424T185701Z
UID:3817-1746835200-1746921599@www.talonwines.com
SUMMARY:Sparverius Launch Day Open House
DESCRIPTION:
URL:https://www.talonwines.com/event/sparverius-launch-day-open-house/
LOCATION:Talon Wines at the Meadery\, 3701 G Road\, Palisade\, CO\, 81526\, United States
END:VEVENT
BEGIN:VEVENT
DTSTART;VALUE=DATE:20250509
DTEND;VALUE=DATE:20250511
DTSTAMP:20260422T135908
CREATED:20250127T205323Z
LAST-MODIFIED:20250307T204257Z
UID:3673-1746748800-1746921599@www.talonwines.com
SUMMARY:Barrel Into Spring
DESCRIPTION:More info coming soon!
URL:https://www.talonwines.com/event/barrel-into-spring-2025/
LOCATION:CO
END:VEVENT
BEGIN:VEVENT
DTSTART;VALUE=DATE:20250508
DTEND;VALUE=DATE:20250509
DTSTAMP:20260422T135908
CREATED:20250423T003243Z
LAST-MODIFIED:20250424T185319Z
UID:3815-1746662400-1746748799@www.talonwines.com
SUMMARY:Sparverius Pre-Launch Party
DESCRIPTION:
URL:https://www.talonwines.com/event/sparverius-pre-launch-party/
LOCATION:Talon Wines at the Meadery\, 3701 G Road\, Palisade\, CO\, 81526\, United States
END:VEVENT
BEGIN:VEVENT
DTSTART;VALUE=DATE:20250420
DTEND;VALUE=DATE:20250421
DTSTAMP:20260422T135908
CREATED:20250127T205014Z
LAST-MODIFIED:20250307T204232Z
UID:3670-1745107200-1745193599@www.talonwines.com
SUMMARY:Easter Sunday (CLOSED)
DESCRIPTION:
URL:https://www.talonwines.com/event/easter-sunday-2025/
LOCATION:CO
END:VEVENT
BEGIN:VEVENT
DTSTART;TZID=America/Denver:20250419T180000
DTEND;TZID=America/Denver:20250419T200000
DTSTAMP:20260422T135908
CREATED:20250321T230203Z
LAST-MODIFIED:20250321T230203Z
UID:3804-1745085600-1745092800@www.talonwines.com
SUMMARY:30th Anniversary Mead Pairing Dinner
DESCRIPTION:
URL:https://www.talonwines.com/event/30th-anniversary-mead-pairing-dinner/
LOCATION:Talon Wines at the Meadery\, 3701 G Road\, Palisade\, CO\, 81526\, United States
END:VEVENT
BEGIN:VEVENT
DTSTART;TZID=America/Denver:20250412T100000
DTEND;TZID=America/Denver:20250412T160000
DTSTAMP:20260422T135908
CREATED:20250127T204832Z
LAST-MODIFIED:20250307T204151Z
UID:3668-1744452000-1744473600@www.talonwines.com
SUMMARY:International Honeybee Festival
DESCRIPTION:
URL:https://www.talonwines.com/event/international-honeybee-festival-2025/
LOCATION:CO
CATEGORIES:Festival
END:VEVENT
BEGIN:VEVENT
DTSTART;TZID=America/Denver:20250411T170000
DTEND;TZID=America/Denver:20250411T200000
DTSTAMP:20260422T135908
CREATED:20250307T210823Z
LAST-MODIFIED:20250318T234412Z
UID:3789-1744390800-1744401600@www.talonwines.com
SUMMARY:International Honeybee Festival Welcome Reception
DESCRIPTION:
URL:https://www.talonwines.com/event/international-honeybee-festival-welcome-reception/
LOCATION:Talon Wines at the Meadery\, 3701 G Road\, Palisade\, CO\, 81526\, United States
END:VEVENT
BEGIN:VEVENT
DTSTART;VALUE=DATE:20250401
DTEND;VALUE=DATE:20250501
DTSTAMP:20260422T135908
CREATED:20250128T154227Z
LAST-MODIFIED:20250307T204434Z
UID:3677-1743465600-1746057599@www.talonwines.com
SUMMARY:Meadery of the Rockies 30th Anniversary
DESCRIPTION:
URL:https://www.talonwines.com/event/mor-30th/
LOCATION:CO
END:VEVENT
BEGIN:VEVENT
DTSTART;TZID=America/Denver:20250329T130000
DTEND;TZID=America/Denver:20250329T150000
DTSTAMP:20260422T135908
CREATED:20250127T204523Z
LAST-MODIFIED:20250307T203705Z
UID:3666-1743253200-1743260400@www.talonwines.com
SUMMARY:Paint & Sip
DESCRIPTION:Join us for a paint & sip at our tasting room! Click here to register.
URL:https://www.talonwines.com/event/paint-sip-march-29/
LOCATION:Talon Wines at the Meadery\, 3701 G Road\, Palisade\, CO\, 81526\, United States
END:VEVENT
BEGIN:VEVENT
DTSTART;TZID=America/Denver:20250322T173000
DTEND;TZID=America/Denver:20250322T193000
DTSTAMP:20260422T135908
CREATED:20250303T191315Z
LAST-MODIFIED:20250303T191315Z
UID:3769-1742664600-1742671800@www.talonwines.com
SUMMARY:Wine & Chili Pairing Night
DESCRIPTION:
URL:https://www.talonwines.com/event/wine-chili-pairing-night/
LOCATION:Talon Wines at the Meadery\, 3701 G Road\, Palisade\, CO\, 81526\, United States
END:VEVENT
BEGIN:VEVENT
DTSTART;TZID=America/Denver:20250308T120000
DTEND;TZID=America/Denver:20250308T160000
DTSTAMP:20260422T135908
CREATED:20250213T155544Z
LAST-MODIFIED:20250307T205135Z
UID:3754-1741435200-1741449600@www.talonwines.com
SUMMARY:Charm Bar: DIY Wine Charms
DESCRIPTION:Join us for a DIY Charm Bar to make your own set of 4 wine glass charms! \nEach ticket includes 4 wine charm rings\, full access to our charm bar (minimalist or maximalist\, get creative curating your set and have fun!)\, and your choice of a glass of wine or tasting flight of 3 to sip on while you make your charms. \nCome to the tasting room any time between noon and 4pm to get crafty with us! Tickets are $20 each before March 8th\, $25 each at the door. Buy now to get early bird pricing!
URL:https://www.talonwines.com/event/charm-bar-diy-wine-charms/
LOCATION:Talon Wines at the Meadery\, 3701 G Road\, Palisade\, CO\, 81526\, United States
END:VEVENT
BEGIN:VEVENT
DTSTART;VALUE=DATE:20250207
DTEND;VALUE=DATE:20250218
DTSTAMP:20260422T135908
CREATED:20250127T204001Z
LAST-MODIFIED:20250127T204001Z
UID:3663-1738890000-1739753999@www.talonwines.com
SUMMARY:Wine & Chocolate Flights
DESCRIPTION:
URL:https://www.talonwines.com/event/wine-chocolate-flights/
LOCATION:Talon Wines at the Meadery\, 3701 G Road\, Palisade\, CO\, 81526\, United States
END:VEVENT
BEGIN:VEVENT
DTSTART;TZID=America/Denver:20241026T180000
DTEND;TZID=America/Denver:20241026T200000
DTSTAMP:20260422T135908
CREATED:20240927T224859Z
LAST-MODIFIED:20241009T195452Z
UID:3533-1729965600-1729972800@www.talonwines.com
SUMMARY:A Taste of the Valley & Talon Wines Present: A Fondue Feast
DESCRIPTION:Join us for an evening of fondue fun in the tasting room! Ticket includes a glass of wine + sweet and savory fondue. \nTickets are $20 each\, $15 for Talon Wine Club members.
URL:https://www.talonwines.com/event/fondue-feast/
LOCATION:Talon Wines at the Meadery\, 3701 G Road\, Palisade\, CO\, 81526\, United States
END:VEVENT
BEGIN:VEVENT
DTSTART;TZID=America/Denver:20240921T113000
DTEND;TZID=America/Denver:20240921T180000
DTSTAMP:20260422T135908
CREATED:20240725T182451Z
LAST-MODIFIED:20240725T182451Z
UID:3445-1726918200-1726941600@www.talonwines.com
SUMMARY:Colorado Mountain Winefest
DESCRIPTION:Join us at Riverbend Park for the 33rd Annual Colorado Mountain Winefest! Tickets available at the link below.
URL:https://www.talonwines.com/event/colorado-mountain-winefest-2/
LOCATION:Riverbend Park\, 451 Pendleton St.\, Palisade\, CO\, 81526\, United States
END:VEVENT
BEGIN:VEVENT
DTSTART;TZID=America/Denver:20240920T200000
DTEND;TZID=America/Denver:20240920T220000
DTSTAMP:20260422T135908
CREATED:20240725T182850Z
LAST-MODIFIED:20240725T182850Z
UID:3447-1726862400-1726869600@www.talonwines.com
SUMMARY:Chocolate & Wine Tasting (SOLD OUT)
DESCRIPTION:Indulge in the ultimate pairing of wine and chocolate at our exclusive tasting event! Delight your taste buds with a delectable array of Enstrom and Guittard chocolates perfectly complemented by a diverse selection of Colorado wines. From classic dry whites and reds to luxurious dessert options\, explore the rich flavors that await you. Your ticket grants you access to a delightful experience\, including a tasting glass for savoring the wines\, unlimited samples of exquisite Colorado wines\, an assortment of chocolates\, truffles\, and savory snacks to tantalize your palate\, all accompanied by live music to enhance the ambiance.
URL:https://www.talonwines.com/event/chocolate-wine-tasting-sold-out/
LOCATION:Colorado Wine Country Inn\, 777 Grande River Drive\, Palisade\, CO\, 81526\, United States
END:VEVENT
BEGIN:VEVENT
DTSTART;TZID=America/Denver:20240919T190000
DTEND;TZID=America/Denver:20240919T210000
DTSTAMP:20260422T135908
CREATED:20240907T165435Z
LAST-MODIFIED:20240907T165435Z
UID:3508-1726772400-1726779600@www.talonwines.com
SUMMARY:Paint and Sip: Palisade Vintage
DESCRIPTION:
URL:https://www.talonwines.com/event/paint-and-sip-palisade-vintage/
LOCATION:Talon Wines at the Meadery\, 3701 G Road\, Palisade\, CO\, 81526\, United States
END:VEVENT
BEGIN:VEVENT
DTSTART;TZID=America/Denver:20240919T170000
DTEND;TZID=America/Denver:20240919T190000
DTSTAMP:20260422T135908
CREATED:20240828T205441Z
LAST-MODIFIED:20240828T205441Z
UID:3491-1726765200-1726772400@www.talonwines.com
SUMMARY:Cheers to Art
DESCRIPTION:Celebrate community with a toast to Riverbend Red & local Colorado art! Choose from several wines\, including our newest release Riverbend Red\, along with hors d’oeuvres as you peruse the gallery at The Blue Pig. Each ticket includes 1 glass of wine and a variety of bites. \nAdditional glasses and bottles available for purchase. Ticket required for entry to the gallery\, tickets also available for purchase at the door.
URL:https://www.talonwines.com/event/cheers-to-art/
LOCATION:Blue Pig Gallery\, 101 W 3rd St.\, Palisade\, CO\, 81526\, United States
END:VEVENT
BEGIN:VEVENT
DTSTART;TZID=America/Denver:20240913T110000
DTEND;TZID=America/Denver:20240913T180000
DTSTAMP:20260422T135908
CREATED:20240725T182303Z
LAST-MODIFIED:20240909T184715Z
UID:3443-1726225200-1726250400@www.talonwines.com
SUMMARY:Riverbend Red Launch Day
DESCRIPTION:Join us for launch day! This is free to attend and open to the public during regular tasting room hours. \nWe’ll have free tastings of Riverbend Red along with prints and postcards of the label art available for sale. Come on by and celebrate with us!
URL:https://www.talonwines.com/event/launch-day-2/
LOCATION:Talon Wines at the Meadery\, 3701 G Road\, Palisade\, CO\, 81526\, United States
END:VEVENT
END:VCALENDAR