BEGIN:VCALENDAR
VERSION:2.0
PRODID:-//Talon Wines - ECPv6.15.20//NONSGML v1.0//EN
CALSCALE:GREGORIAN
METHOD:PUBLISH
X-WR-CALNAME:Talon Wines
X-ORIGINAL-URL:https://www.talonwines.com
X-WR-CALDESC:Events for Talon Wines
REFRESH-INTERVAL;VALUE=DURATION:PT1H
X-Robots-Tag:noindex
X-PUBLISHED-TTL:PT1H
BEGIN:VTIMEZONE
TZID:America/Denver
BEGIN:DAYLIGHT
TZOFFSETFROM:-0700
TZOFFSETTO:-0600
TZNAME:MDT
DTSTART:20210314T090000
END:DAYLIGHT
BEGIN:STANDARD
TZOFFSETFROM:-0600
TZOFFSETTO:-0700
TZNAME:MST
DTSTART:20211107T080000
END:STANDARD
BEGIN:DAYLIGHT
TZOFFSETFROM:-0700
TZOFFSETTO:-0600
TZNAME:MDT
DTSTART:20220313T090000
END:DAYLIGHT
BEGIN:STANDARD
TZOFFSETFROM:-0600
TZOFFSETTO:-0700
TZNAME:MST
DTSTART:20221106T080000
END:STANDARD
BEGIN:DAYLIGHT
TZOFFSETFROM:-0700
TZOFFSETTO:-0600
TZNAME:MDT
DTSTART:20230312T090000
END:DAYLIGHT
BEGIN:STANDARD
TZOFFSETFROM:-0600
TZOFFSETTO:-0700
TZNAME:MST
DTSTART:20231105T080000
END:STANDARD
END:VTIMEZONE
BEGIN:VEVENT
DTSTART;TZID=America/Denver:20220611T193000
DTEND;TZID=America/Denver:20220611T213000
DTSTAMP:20260420T035041
CREATED:20220531T152647Z
LAST-MODIFIED:20220531T152951Z
UID:2436-1654975800-1654983000@www.talonwines.com
SUMMARY:BBQ & Wine Pairing (MEMBERS ONLY)
DESCRIPTION:Join us for our second Talon Wine Club party of the year! Enjoy BBQ catered by Famous Dave’s paired with a variety of our wines. Each ticket includes 2 meats\, 2 sides\, and a glass of wine! \nTickets are available for purchase until June 8th: https://www.talonwines.com/product/wine-club-bbq
URL:https://www.talonwines.com/event/bbq-wine-pairing/
LOCATION:Talon Wines at St. Kathryn’s\, 785 Elberta Ave\, Palisade\, CO\, 81526\, United States
END:VEVENT
BEGIN:VEVENT
DTSTART;TZID=America/Denver:20220604T120000
DTEND;TZID=America/Denver:20220604T180000
DTSTAMP:20260420T035041
CREATED:20220423T212200Z
LAST-MODIFIED:20220423T212555Z
UID:2342-1654344000-1654365600@www.talonwines.com
SUMMARY:Manitou Springs Colorado Wine Festival
DESCRIPTION:Join us at the Manitou Springs Colorado Wine Festival! We are honored to be one of many participating wineries at one of the largest wine festivals in Colorado. Enjoy live music\, food trucks and free wine tastings with your general admission ticket. Explore vendors\, purchase tickets\, and learn more about the festival here.
URL:https://www.talonwines.com/event/manitou-springs-wine-festival/
LOCATION:Memorial Park\, 502 Manitou Ave.\, Manitou Springs\, CO\, 80829
END:VEVENT
BEGIN:VEVENT
DTSTART;TZID=America/Denver:20220603T183000
DTEND;TZID=America/Denver:20220603T213000
DTSTAMP:20260420T035041
CREATED:20220423T205802Z
LAST-MODIFIED:20220601T204131Z
UID:2334-1654281000-1654291800@www.talonwines.com
SUMMARY:Food Truck Friday
DESCRIPTION:Join us this summer for our annual Food Truck Fridays on the first Fridays of June-September! Enjoy a variety of food trucks\, live music\, and (of course) great wine. \nView the Facebook event here: https://fb.me/e/1Rpgqf2iG \n 
URL:https://www.talonwines.com/event/food-truck-friday/
LOCATION:Talon Wines at St. Kathryn’s\, 785 Elberta Ave\, Palisade\, CO\, 81526\, United States
END:VEVENT
BEGIN:VEVENT
DTSTART;TZID=America/Denver:20220530T130000
DTEND;TZID=America/Denver:20220530T180000
DTSTAMP:20260420T035041
CREATED:20220421T214423Z
LAST-MODIFIED:20220421T214423Z
UID:2332-1653915600-1653933600@www.talonwines.com
SUMMARY:Memorial Day Weekend Featuring Nature's Educators
DESCRIPTION:Join us Memorial Day weekend to learn more about the inspiration behind Talon Wines’ namesake: birds of prey. We are honored to host Nature’s Educators\, the largest wildlife outreach non-profit in Colorado. Nature’s Educators will have birds of prey at our St. Kathryn Cellars location from 12-5pm on the 28th\, 29th\, and 30th. Bring a friend\, grab a flight or two\, and get up close and personal with birds of prey all weekend! \nAll Talon Winery wines will be 20% off\, including our premier red blend\, The Falconer.
URL:https://www.talonwines.com/event/memorial-day-weekend-featuring-natures-educators-3/
LOCATION:Talon Wines at St. Kathryn’s\, 785 Elberta Ave\, Palisade\, CO\, 81526\, United States
END:VEVENT
BEGIN:VEVENT
DTSTART;TZID=America/Denver:20220529T130000
DTEND;TZID=America/Denver:20220529T180000
DTSTAMP:20260420T035041
CREATED:20220421T214321Z
LAST-MODIFIED:20220421T214342Z
UID:2330-1653829200-1653847200@www.talonwines.com
SUMMARY:Memorial Day Weekend Featuring Nature's Educators
DESCRIPTION:Join us Memorial Day weekend to learn more about the inspiration behind Talon Wines’ namesake: birds of prey. We are honored to host Nature’s Educators\, the largest wildlife outreach non-profit in Colorado. Nature’s Educators will have birds of prey at our St. Kathryn Cellars location from 12-5pm on the 28th\, 29th\, and 30th. Bring a friend\, grab a flight or two\, and get up close and personal with birds of prey all weekend! \nAll Talon Winery wines will be 20% off\, including our premier red blend\, The Falconer.
URL:https://www.talonwines.com/event/memorial-day-weekend-featuring-natures-educators-2/
LOCATION:Talon Wines at St. Kathryn’s\, 785 Elberta Ave\, Palisade\, CO\, 81526\, United States
END:VEVENT
BEGIN:VEVENT
DTSTART;TZID=America/Denver:20220528T130000
DTEND;TZID=America/Denver:20220528T180000
DTSTAMP:20260420T035041
CREATED:20220421T214230Z
LAST-MODIFIED:20220421T214230Z
UID:2328-1653742800-1653760800@www.talonwines.com
SUMMARY:Memorial Day Weekend Featuring Nature's Educators
DESCRIPTION:Join us Memorial Day weekend to learn more about the inspiration behind Talon Wines’ namesake: birds of prey. We are honored to host Nature’s Educators\, the largest wildlife outreach non-profit in Colorado. Nature’s Educators will have birds of prey at our St. Kathryn Cellars location from 12-5pm on the 28th\, 29th\, and 30th. Bring a friend\, grab a flight or two\, and get up close and personal with birds of prey all weekend! \nAll Talon Winery wines will be 20% off\, including our premier red blend\, The Falconer.
URL:https://www.talonwines.com/event/memorial-day-weekend-featuring-natures-educators/
LOCATION:Talon Wines at St. Kathryn’s\, 785 Elberta Ave\, Palisade\, CO\, 81526\, United States
END:VEVENT
BEGIN:VEVENT
DTSTART;TZID=America/Denver:20220324T190000
DTEND;TZID=America/Denver:20220324T203000
DTSTAMP:20260420T035041
CREATED:20220306T130054Z
LAST-MODIFIED:20220324T025928Z
UID:1904-1648148400-1648153800@www.talonwines.com
SUMMARY:Girl Scout Cookie & Wine Pairing (MEMBERS ONLY)
DESCRIPTION:Join us for our first Wine Club party of 2022! Enjoy classic Girl Scout Cookies paired with five of our wines. \nTickets are $5 for members (2 per membership) and $10 for guests (2 per membership). Tickets available for purchase March 6th-23rd. \nTICKETS CLOSED
URL:https://www.talonwines.com/event/girl-scout-cookie-wine-pairing-events-calendar/
LOCATION:Talon Wines at St. Kathryn’s\, 785 Elberta Ave\, Palisade\, CO\, 81526\, United States
END:VEVENT
END:VCALENDAR