BEGIN:VCALENDAR
VERSION:2.0
PRODID:-//Talon Wines - ECPv6.15.20//NONSGML v1.0//EN
CALSCALE:GREGORIAN
METHOD:PUBLISH
X-WR-CALNAME:Talon Wines
X-ORIGINAL-URL:https://www.talonwines.com
X-WR-CALDESC:Events for Talon Wines
REFRESH-INTERVAL;VALUE=DURATION:PT1H
X-Robots-Tag:noindex
X-PUBLISHED-TTL:PT1H
BEGIN:VTIMEZONE
TZID:America/Denver
BEGIN:DAYLIGHT
TZOFFSETFROM:-0700
TZOFFSETTO:-0600
TZNAME:MDT
DTSTART:20240310T090000
END:DAYLIGHT
BEGIN:STANDARD
TZOFFSETFROM:-0600
TZOFFSETTO:-0700
TZNAME:MST
DTSTART:20241103T080000
END:STANDARD
BEGIN:DAYLIGHT
TZOFFSETFROM:-0700
TZOFFSETTO:-0600
TZNAME:MDT
DTSTART:20250309T090000
END:DAYLIGHT
BEGIN:STANDARD
TZOFFSETFROM:-0600
TZOFFSETTO:-0700
TZNAME:MST
DTSTART:20251102T080000
END:STANDARD
BEGIN:DAYLIGHT
TZOFFSETFROM:-0700
TZOFFSETTO:-0600
TZNAME:MDT
DTSTART:20260308T090000
END:DAYLIGHT
BEGIN:STANDARD
TZOFFSETFROM:-0600
TZOFFSETTO:-0700
TZNAME:MST
DTSTART:20261101T080000
END:STANDARD
BEGIN:DAYLIGHT
TZOFFSETFROM:-0700
TZOFFSETTO:-0600
TZNAME:MDT
DTSTART:20270314T090000
END:DAYLIGHT
BEGIN:STANDARD
TZOFFSETFROM:-0600
TZOFFSETTO:-0700
TZNAME:MST
DTSTART:20271107T080000
END:STANDARD
END:VTIMEZONE
BEGIN:VEVENT
DTSTART;TZID=America/Denver:20250919T120000
DTEND;TZID=America/Denver:20250919T160000
DTSTAMP:20260420T063908
CREATED:20250719T035301Z
LAST-MODIFIED:20250719T035717Z
UID:3919-1758283200-1758297600@www.talonwines.com
SUMMARY:Wine & Cheese Pairing Flights (CO Wine Week)
DESCRIPTION:  \n \nKick off Winefest weekend with a tasting experience that invites you to discover innovative takes on tradition. We’re teaming up with Beehive Cheese\, a renowned artisan creamery from Utah\, for a curated wine and cheese flight that explores bold\, unexpected flavor pairings rooted in time-honored craft. \nYou’ll enjoy a flight of six wines\, each thoughtfully paired with a handcrafted cheese from Beehive\, known for their award-winning cheddars infused with creative rubs including tea\, espresso & lavender\, and sea salt & honey. The result is a flavorful journey that reimagines what a wine and cheese pairing can be. \nFlights will be available from 12 to 4pm\, with a Beehive Cheese expert in the tasting room to share their story\, talk through the pairings\, and answer any and all cheese-related questions. No reservation needed\, just drop in and enjoy!
URL:https://www.talonwines.com/event/wine-cheese-pairing-flights/
LOCATION:Talon Wines at the Meadery\, 3701 G Road\, Palisade\, CO\, 81526\, United States
END:VEVENT
BEGIN:VEVENT
DTSTART;VALUE=DATE:20250920
DTEND;VALUE=DATE:20250921
DTSTAMP:20260420T063908
CREATED:20250128T161744Z
LAST-MODIFIED:20250307T210117Z
UID:3703-1758326400-1758412799@www.talonwines.com
SUMMARY:Colorado Mountain Winefest
DESCRIPTION:
URL:https://www.talonwines.com/event/colorado-mountain-winefest-2025/
LOCATION:Riverbend Park\, 451 Pendleton St.\, Palisade\, CO\, 81526\, United States
CATEGORIES:Festival
END:VEVENT
BEGIN:VEVENT
DTSTART;VALUE=DATE:20250920
DTEND;VALUE=DATE:20250922
DTSTAMP:20260420T063908
CREATED:20250128T164454Z
LAST-MODIFIED:20250819T193449Z
UID:3708-1758326400-1758499199@www.talonwines.com
SUMMARY:Mile High Falcons
DESCRIPTION:Come by the tasting room 10am-5:30pm on Saturday and 10am-2pm on Sunday to see live raptors and learn about Mile High Falcons!
URL:https://www.talonwines.com/event/mile-high-falcons-sept2025/
LOCATION:Talon Wines at the Meadery\, 3701 G Road\, Palisade\, CO\, 81526\, United States
END:VEVENT
BEGIN:VEVENT
DTSTART;VALUE=DATE:20250920
DTEND;VALUE=DATE:20250922
DTSTAMP:20260420T063908
CREATED:20250130T181155Z
LAST-MODIFIED:20250730T173136Z
UID:3705-1758326400-1758499199@www.talonwines.com
SUMMARY:Falconry Experiences (CO Wine Week)
DESCRIPTION:Join Master Falconer Devin Jaffe\, founder of Mile High Falcons\, for a small group exclusive experience with live raptors! This experience will allow you to dive into the world of falconry with Devin\, ask all of your burning questions\, and get some hands-on experience with birds of prey. Learn about how the birds are housed\, trained\, cared for\, and have the chance to see them work just feet away. \n\nSaturday\, September 20th | 9-10am: https://www.talonwines.com/product/falconry-experience-september-20-am \nSaturday\, September 20th | 4-5pm: https://www.talonwines.com/product/falconry-experience-september-20-pm \nSunday\, September 21st | 9-10am: https://www.talonwines.com/product/falconry-experience-september-21-am
URL:https://www.talonwines.com/event/falconry-experiences-sept2025/
LOCATION:Talon Wines at the Meadery\, 3701 G Road\, Palisade\, CO\, 81526\, United States
END:VEVENT
BEGIN:VEVENT
DTSTART;TZID=America/Denver:20250920T100000
DTEND;TZID=America/Denver:20250920T140000
DTSTAMP:20260420T063908
CREATED:20250730T172903Z
LAST-MODIFIED:20250819T192702Z
UID:3947-1758362400-1758376800@www.talonwines.com
SUMMARY:DIY Wine Charm Workshop (CO Wine Week)
DESCRIPTION:
URL:https://www.talonwines.com/event/diy-wine-charm-workshop-co-wine-week/
LOCATION:Talon Wines at the Meadery\, 3701 G Road\, Palisade\, CO\, 81526\, United States
END:VEVENT
BEGIN:VEVENT
DTSTART;TZID=America/Denver:20251004T130000
DTEND;TZID=America/Denver:20251004T150000
DTSTAMP:20260420T063908
CREATED:20250128T162434Z
LAST-MODIFIED:20250829T183748Z
UID:3711-1759582800-1759590000@www.talonwines.com
SUMMARY:Paint & Sip
DESCRIPTION:
URL:https://www.talonwines.com/event/paint-sip-oct-4/
LOCATION:Talon Wines at the Meadery\, 3701 G Road\, Palisade\, CO\, 81526\, United States
END:VEVENT
BEGIN:VEVENT
DTSTART;VALUE=DATE:20251010
DTEND;VALUE=DATE:20251013
DTSTAMP:20260420T063908
CREATED:20251007T002110Z
LAST-MODIFIED:20251007T002110Z
UID:4002-1760054400-1760313599@www.talonwines.com
SUMMARY:Friends & Family Sale
DESCRIPTION:Enjoy 40% off almost all wines! Talon Wine Club members get early access on October 10th. Sale will be open to all on October 11th and 12th (Saturday and Sunday). \nIn-store only\, does not stack with other discounts\, email address is required.
URL:https://www.talonwines.com/event/friends-family-sale/
LOCATION:Talon Wines at the Meadery\, 3701 G Road\, Palisade\, CO\, 81526\, United States
END:VEVENT
BEGIN:VEVENT
DTSTART;TZID=America/Denver:20251024T173000
DTEND;TZID=America/Denver:20251024T193000
DTSTAMP:20260420T063908
CREATED:20251016T215033Z
LAST-MODIFIED:20251016T215033Z
UID:4132-1761327000-1761334200@www.talonwines.com
SUMMARY:Fall Chili Cook-Off
DESCRIPTION:
URL:https://www.talonwines.com/event/fall-chili-cook-off/
LOCATION:Talon Wines at the Meadery\, 3701 G Road\, Palisade\, CO\, 81526\, United States
END:VEVENT
BEGIN:VEVENT
DTSTART;VALUE=DATE:20251127
DTEND;VALUE=DATE:20251128
DTSTAMP:20260420T063908
CREATED:20250128T162538Z
LAST-MODIFIED:20250307T210339Z
UID:3714-1764201600-1764287999@www.talonwines.com
SUMMARY:Thanksgiving (CLOSED)
DESCRIPTION:
URL:https://www.talonwines.com/event/thanksgiving-2025/
LOCATION:CO
END:VEVENT
BEGIN:VEVENT
DTSTART;VALUE=DATE:20251224
DTEND;VALUE=DATE:20251225
DTSTAMP:20260420T063908
CREATED:20250128T162631Z
LAST-MODIFIED:20250307T210400Z
UID:3716-1766534400-1766620799@www.talonwines.com
SUMMARY:Christmas Eve (CLOSING AT 3PM)
DESCRIPTION:
URL:https://www.talonwines.com/event/christmas-eve-2025/
LOCATION:CO
END:VEVENT
BEGIN:VEVENT
DTSTART;VALUE=DATE:20251225
DTEND;VALUE=DATE:20251226
DTSTAMP:20260420T063908
CREATED:20250128T162657Z
LAST-MODIFIED:20250307T210406Z
UID:3718-1766620800-1766707199@www.talonwines.com
SUMMARY:Christmas Day (CLOSED)
DESCRIPTION:
URL:https://www.talonwines.com/event/christmas-day-2025/
LOCATION:CO
END:VEVENT
BEGIN:VEVENT
DTSTART;VALUE=DATE:20260201
DTEND;VALUE=DATE:20260301
DTSTAMP:20260420T063908
CREATED:20260114T000843Z
LAST-MODIFIED:20260114T000922Z
UID:4171-1769904000-1772323199@www.talonwines.com
SUMMARY:Wine & Chocolate Pairing Flights
DESCRIPTION:
URL:https://www.talonwines.com/event/wine-chocolate-pairing-flights/
LOCATION:Talon Wines at the Meadery\, 3701 G Road\, Palisade\, CO\, 81526\, United States
END:VEVENT
BEGIN:VEVENT
DTSTART;TZID=America/Denver:20260307T120000
DTEND;TZID=America/Denver:20260307T160000
DTSTAMP:20260420T063908
CREATED:20260114T002426Z
LAST-MODIFIED:20260221T000229Z
UID:4176-1772884800-1772899200@www.talonwines.com
SUMMARY:Wine Charm Workshop
DESCRIPTION:
URL:https://www.talonwines.com/event/winecharmworkshop-march2026/
LOCATION:Talon Wines at the Meadery\, 3701 G Road\, Palisade\, CO\, 81526\, United States
END:VEVENT
BEGIN:VEVENT
DTSTART;TZID=America/Denver:20260321T130000
DTEND;TZID=America/Denver:20260321T150000
DTSTAMP:20260420T063908
CREATED:20260114T002602Z
LAST-MODIFIED:20260305T234925Z
UID:4179-1774098000-1774105200@www.talonwines.com
SUMMARY:Paint & Sip
DESCRIPTION:
URL:https://www.talonwines.com/event/paint-sip/
LOCATION:Talon Wines at the Meadery\, 3701 G Road\, Palisade\, CO\, 81526\, United States
END:VEVENT
BEGIN:VEVENT
DTSTART;VALUE=DATE:20260411
DTEND;VALUE=DATE:20260412
DTSTAMP:20260420T063908
CREATED:20260209T234402Z
LAST-MODIFIED:20260209T234402Z
UID:4194-1775865600-1775951999@www.talonwines.com
SUMMARY:Colorado Honeybee Festival
DESCRIPTION:
URL:https://www.talonwines.com/event/colorado-honeybee-festival/
LOCATION:CO
END:VEVENT
BEGIN:VEVENT
DTSTART;VALUE=DATE:20260417
DTEND;VALUE=DATE:20260419
DTSTAMP:20260420T063908
CREATED:20260209T233918Z
LAST-MODIFIED:20260209T233918Z
UID:4192-1776384000-1776556799@www.talonwines.com
SUMMARY:Barrel into Spring
DESCRIPTION:
URL:https://www.talonwines.com/event/barrel-into-spring/
LOCATION:CO
END:VEVENT
BEGIN:VEVENT
DTSTART;VALUE=DATE:20260502
DTEND;VALUE=DATE:20260503
DTSTAMP:20260420T063908
CREATED:20260407T204008Z
LAST-MODIFIED:20260407T204008Z
UID:4218-1777680000-1777766399@www.talonwines.com
SUMMARY:Wine Club Party: Bingo Night
DESCRIPTION:Talon Wine Club members only\, RSVP info coming soon!
URL:https://www.talonwines.com/event/wine-club-party-bingo-night/
LOCATION:Talon Wines at the Meadery\, 3701 G Road\, Palisade\, CO\, 81526\, United States
END:VEVENT
END:VCALENDAR